BEGIN:VCALENDAR
VERSION:2.0
PRODID:-//ChamberMaster//Event Calendar 2.0//EN
METHOD:PUBLISH
X-PUBLISHED-TTL:P3D
REFRESH-INTERVAL:P3D
CALSCALE:GREGORIAN
BEGIN:VEVENT
DTSTART;VALUE=DATE:20190208
DTEND;VALUE=DATE:20190211
TRANSP:TRANSPARENT
X-MICROSOFT-CDO-ALLDAYEVENT:TRUE
SUMMARY:Room Service
DESCRIPTION:Room Service\n\nPaul Bunyan Playhouse \n\nFebruary 1-3\n\nFebruary 8-10
X-ALT-DESC;FMTTYPE=text/html:Room Service<br />\nPaul Bunyan Playhouse&nbsp\;<br />\nFebruary 1-3<br />\nFebruary 8-10
LOCATION:
UID:e.132.33127
SEQUENCE:3
DTSTAMP:20260422T084700Z
URL:http://bemidji.preview.gochambermaster.com/events/details/room-service-33127
END:VEVENT

END:VCALENDAR
