BEGIN:VCALENDAR
VERSION:2.0
PRODID:-//ChamberMaster//Event Calendar 2.0//EN
METHOD:PUBLISH
X-PUBLISHED-TTL:P3D
REFRESH-INTERVAL:P3D
CALSCALE:GREGORIAN
BEGIN:VEVENT
DTSTART:20190101T190000Z
DTEND:20190101T210000Z
X-MICROSOFT-CDO-ALLDAYEVENT:FALSE
SUMMARY:First Day Hike
DESCRIPTION:First Day Hike or Snowshoe\n\nStart off the New Year with a hike or snowshoe through our winter wonderland! We'll be heading to the Rocky Point area to enjoy the woods and views over the frozen lake. If there's good snow\, bring your own showshoes or chrck them out from the park (first-come\, first served\; no cost). Dress for the weather and bring water if you wish. Meet at the park office\; snacks available afterward in the Visitor Center
X-ALT-DESC;FMTTYPE=text/html:First Day Hike or Snowshoe<br />\nStart off the New Year with a hike or snowshoe through our winter wonderland! We&#39\;ll be heading to the Rocky Point area to enjoy the woods and views over the frozen lake. If there&#39\;s good snow\, bring your own showshoes or chrck them out from the park (first-come\, first served\; no cost). Dress for the weather and bring water if you wish. Meet at the park office\; snacks available afterward in the Visitor Center<br />\n<br />\n&nbsp\;
LOCATION:
UID:e.132.33175
SEQUENCE:3
DTSTAMP:20260422T100916Z
URL:http://bemidji.preview.gochambermaster.com/events/details/first-day-hike-33175
END:VEVENT

END:VCALENDAR
