BEGIN:VCALENDAR
VERSION:2.0
PRODID:-//ChamberMaster//Event Calendar 2.0//EN
METHOD:PUBLISH
X-PUBLISHED-TTL:P3D
REFRESH-INTERVAL:P3D
CALSCALE:GREGORIAN
BEGIN:VEVENT
DTSTART:20190216T230000Z
DTEND:20190217T023000Z
X-MICROSOFT-CDO-ALLDAYEVENT:FALSE
SUMMARY:Daddy Daughter Dance 2019
DESCRIPTION:Join us for the annual Daddy Daughter Dance. This package includes admission for a dad and his daughter along with dinner\, a special picture and an evening of dancing.\n\nAll ages are welcome.  Max participation of 200. You can register online www.ci.bemidji.mn.us \, at the City Hall \n\nCost: $40.00 Dad & Daughter $21.00 Additional Child
X-ALT-DESC;FMTTYPE=text/html:<span style="font-size: 11pt\;"><span style="font-family: comic sans ms\;"><span style="color: purple\;">Join us for the annual Daddy Daughter Dance. This package includes admission for a dad and his daughter along with dinner\, a special picture and an evening of dancing.<br />\n<strong>All ages are welcome</strong>.&nbsp\; Max participation of 200. You can register online <a href="http://www.ci.bemidji.mn.us">www.ci.bemidji.mn.us</a> \, at the City Hall </span></span></span><br />\n<span style="font-size: medium\;"><span style="font-family: comic sans ms\;"><span style="color: purple\;">Cost: $40.00 Dad &amp\; Daughter $21.00 Additional Child</span></span></span><br />\n&nbsp\;
LOCATION:
UID:e.132.33251
SEQUENCE:3
DTSTAMP:20260422T064721Z
URL:http://bemidji.preview.gochambermaster.com/events/details/daddy-daughter-dance-2019-33251
END:VEVENT

END:VCALENDAR
