BEGIN:VCALENDAR
VERSION:2.0
PRODID:-//ChamberMaster//Event Calendar 2.0//EN
METHOD:PUBLISH
X-PUBLISHED-TTL:P3D
REFRESH-INTERVAL:P3D
CALSCALE:GREGORIAN
BEGIN:VEVENT
DTSTART:20190209T140000Z
DTEND:20190209T210000Z
X-MICROSOFT-CDO-ALLDAYEVENT:FALSE
SUMMARY:Cass Lake Chamber/Palace Casino Hotel Winter Challenge
DESCRIPTION:Cass Lake Chamber\n\nPalace Casino Hotel\n\nWinter Fishing Challenge\n\nFeb 9 2019\n\n8 AM-3 PM\n\nIce Fishing contest - Award to follow at Palace Casino Hotel Banquet Room\n\n\n\nTickets $35\n\nCash or Merchandise Prizes awarded to Top 40 Fish!!!\n\nCash Prizes\n\nLARGEST FISH\n\n1st Place $1\,500\n\n10th Place $1\,250\n\n20th Place $1\,000\n\n30th Place $750\n\n40th Place $500\n\n\n\n218-987-2299
X-ALT-DESC;FMTTYPE=text/html:Cass Lake Chamber<br />\nPalace Casino Hotel<br />\nWinter Fishing Challenge<br />\nFeb 9 2019<br />\n8 AM-3 PM<br />\nIce Fishing contest - Award to follow at Palace Casino Hotel Banquet Room<br />\n<br />\nTickets $35<br />\nCash or Merchandise Prizes awarded to Top 40 Fish!!!<br />\nCash Prizes<br />\nLARGEST FISH<br />\n1st Place $1\,500<br />\n10th Place $1\,250<br />\n20th Place $1\,000<br />\n30th Place $750<br />\n40th Place $500<br />\n<br />\n218-987-2299
LOCATION:
UID:e.132.33179
SEQUENCE:3
DTSTAMP:20260422T102718Z
URL:http://bemidji.preview.gochambermaster.com/events/details/cass-lake-chamber-palace-casino-hotel-winter-challenge-33179
END:VEVENT

END:VCALENDAR
