BEGIN:VCALENDAR
VERSION:2.0
PRODID:-//ChamberMaster//Event Calendar 2.0//EN
METHOD:PUBLISH
X-PUBLISHED-TTL:P3D
REFRESH-INTERVAL:P3D
CALSCALE:GREGORIAN
BEGIN:VEVENT
DTSTART:20190202T010000Z
DTEND:20190203T020000Z
X-MICROSOFT-CDO-ALLDAYEVENT:FALSE
SUMMARY:BSU Women's Hockey
DESCRIPTION:BSU Women's Hockey vs Univ Wisconsin\n\n\n\nSanford Center
X-ALT-DESC;FMTTYPE=text/html:BSU Women&#39\;s Hockey vs Univ Wisconsin<br />\n<br />\nSanford Center
LOCATION:
UID:e.132.33481
SEQUENCE:3
DTSTAMP:20260422T065136Z
URL:http://bemidji.preview.gochambermaster.com/events/details/bsu-women-s-hockey-33481
END:VEVENT

END:VCALENDAR
