BEGIN:VCALENDAR
VERSION:2.0
PRODID:-//ChamberMaster//Event Calendar 2.0//EN
METHOD:PUBLISH
X-PUBLISHED-TTL:P3D
REFRESH-INTERVAL:P3D
CALSCALE:GREGORIAN
BEGIN:VEVENT
DTSTART:20190122T150000Z
DTEND:20190219T220000Z
X-MICROSOFT-CDO-ALLDAYEVENT:FALSE
SUMMARY:BSU Faculty Art Show
DESCRIPTION:The Talley Gallery is pleased to present works by the faculty members of the Technology\, Art and Design department.\n\nThe show runs:\n\nJan 22nd - Feb 19th\n\nwith an opening reception\n\nTuesday\, Jan 22nd\, noon - 3 PM\n\n\n\nGAllery Hours\n\nMonday - Friday 9AM 0 4 PM\n\nThe gallery is located in Bridgeman Hall Room 140\n\n\n\nTalley Gallery\n\nBemidji State University\n\n1500 Birchmont DR NE
X-ALT-DESC;FMTTYPE=text/html:The Talley Gallery is pleased to present works by the faculty members of the Technology\, Art and Design department.<br />\nThe show runs:<br />\nJan 22nd - Feb 19th<br />\nwith an opening reception<br />\nTuesday\, Jan 22nd\, noon - 3 PM<br />\n<br />\nGAllery Hours<br />\nMonday - Friday 9AM 0 4 PM<br />\nThe gallery is located in Bridgeman Hall Room 140<br />\n<br />\nTalley Gallery<br />\nBemidji State University<br />\n1500 Birchmont DR NE<br />\n&nbsp\;
LOCATION:
UID:e.132.33459
SEQUENCE:3
DTSTAMP:20260422T113311Z
URL:http://bemidji.preview.gochambermaster.com/events/details/bsu-faculty-art-show-33459
END:VEVENT

END:VCALENDAR
