BEGIN:VCALENDAR
VERSION:2.0
PRODID:-//ChamberMaster//Event Calendar 2.0//EN
METHOD:PUBLISH
X-PUBLISHED-TTL:P3D
REFRESH-INTERVAL:P3D
CALSCALE:GREGORIAN
BEGIN:VEVENT
DTSTART:20190210T013000Z
DTEND:20190210T030000Z
X-MICROSOFT-CDO-ALLDAYEVENT:FALSE
SUMMARY:BSU Degree Recital: Lindsay Marketon
DESCRIPTION:Join BSU senior Lindsay Marketon for her vocal degree recital. Her performance will begin at 7:30 p.m. in the Recital Hall of the Bangsberg Fine Arts Complex. It is free and open to the public.
X-ALT-DESC;FMTTYPE=text/html:Join BSU senior Lindsay Marketon for her vocal degree recital. Her performance will begin at 7:30 p.m. in the Recital Hall of the Bangsberg Fine Arts Complex. It is free and open to the public.
LOCATION:Recital Hall of the Bangsberg Fine Arts Complex
UID:e.132.33525
SEQUENCE:3
DTSTAMP:20260422T065230Z
URL:http://bemidji.preview.gochambermaster.com/events/details/bsu-degree-recital-lindsay-marketon-33525
END:VEVENT

END:VCALENDAR
