BEGIN:VCALENDAR
VERSION:2.0
PRODID:-//ChamberMaster//Event Calendar 2.0//EN
METHOD:PUBLISH
X-PUBLISHED-TTL:P3D
REFRESH-INTERVAL:P3D
CALSCALE:GREGORIAN
BEGIN:VEVENT
DTSTART:20190205T013000Z
DTEND:20190205T030000Z
X-MICROSOFT-CDO-ALLDAYEVENT:FALSE
SUMMARY:Bemidji Concert Series: Hornheads
DESCRIPTION:Hornheads\, an internationally renowned group of five horn performers\, has recorded more than 60 album compilations with national and international artists such as Prince\, Chaka Kahn\, Carmen Electra and more. The group performed for more than two million concert goers during a 20-country tour with Prince and the New Power Generation between 1991 94. For more information visit: https://calendar.bemidjistate.edu/music/#!view/event/date/20190204/event_id/19180 About the Bemidji Concert Series The Department of Music began the Bemidji Concert Series in 2001 to reinforce Bemidji's reputation as a cultural center in Northern Minnesota and to provide the Bemidji region with local access to world-class musical performances. The 2018-19 Bemidji Concert Series begins in September and includes four concerts.
X-ALT-DESC;FMTTYPE=text/html:Hornheads\, an internationally renowned group of five horn performers\, has recorded more than 60 album compilations with national and international artists such as Prince\, Chaka Kahn\, Carmen Electra and more. The group performed for more than two million concert goers during a 20-country tour with Prince and the New Power Generation between 1991&ndash\;94. For more information visit: https://calendar.bemidjistate.edu/music/#!view/event/date/20190204/event_id/19180 About the Bemidji Concert Series The Department of Music began the Bemidji Concert Series in 2001 to reinforce Bemidji&rsquo\;s reputation as a cultural center in Northern Minnesota and to provide the Bemidji region with local access to world-class musical performances. The 2018-19 Bemidji Concert Series begins in September and includes four concerts.
LOCATION:Thompson Recital Hall\, Bangsberg Fine Arts Complex\, Bemidji State University
UID:e.132.33009
SEQUENCE:3
DTSTAMP:20260422T105337Z
URL:http://bemidji.preview.gochambermaster.com/events/details/bemidji-concert-series-hornheads-33009
END:VEVENT

END:VCALENDAR
